BEGIN:VCALENDAR
VERSION:2.0
PRODID://HCOC//Hamilton Chamber of Commerce//EN
CALSCALE:GREGORIAN
METHOD:PUBLISH
X-WR-TIMEZONE:America/Toronto
X-WR-CALDESC:
BEGIN:VTIMEZONE
TZID:America/Toronto
X-LIC-LOCATION:America/Toronto
BEGIN:DAYLIGHT
TZOFFSETFROM:-0500
TZOFFSETTO:-0400
TZNAME:EDT
DTSTART:19700308T020000
RRULE:FREQ=YEARLY;BYMONTH=3;BYDAY=2SU
END:DAYLIGHT
BEGIN:STANDARD
TZOFFSETFROM:-0400
TZOFFSETTO:-0500
TZNAME:EST
DTSTART:19701101T020000
RRULE:FREQ=YEARLY;BYMONTH=11;BYDAY=1SU
END:STANDARD
END:VTIMEZONE
BEGIN:VEVENT
SUMMARY:YEP Kick-Off Party: Mingle at MERIT
LOCATION:Merit Brewing\, 107 James Street North\, Hamilton\, Ontario\, Canada\, L8R 2K6
DESCRIPTION:
	Join us on Tuesday\, April 16 for YEP's 2024 Kick-Off Party! CO
	ST: $12.50 for YEP Members  |  $15 - Non-Members/Guests Includes complim
	entary drink ticket LOCATION: Merit Brewing\, 107 James Street North\, Ham
	ilton NEW DATE: Tuesday\, April 16\, 2024 TIME: 5 - 7 p.m.
DTSTART;TZID=America/Toronto:20240416T170000
DTEND;TZID=America/Toronto:20240416T190000
END:VEVENT
END:VCALENDAR