BEGIN:VCALENDAR
VERSION:2.0
PRODID://HCOC//Hamilton Chamber of Commerce//EN
CALSCALE:GREGORIAN
METHOD:PUBLISH
X-WR-TIMEZONE:America/Toronto
X-WR-CALDESC:
BEGIN:VTIMEZONE
TZID:America/Toronto
X-LIC-LOCATION:America/Toronto
BEGIN:DAYLIGHT
TZOFFSETFROM:-0500
TZOFFSETTO:-0400
TZNAME:EDT
DTSTART:19700308T020000
RRULE:FREQ=YEARLY;BYMONTH=3;BYDAY=2SU
END:DAYLIGHT
BEGIN:STANDARD
TZOFFSETFROM:-0400
TZOFFSETTO:-0500
TZNAME:EST
DTSTART:19701101T020000
RRULE:FREQ=YEARLY;BYMONTH=11;BYDAY=1SU
END:STANDARD
END:VTIMEZONE
BEGIN:VEVENT
SUMMARY:YEP CHEERS: October Edition
LOCATION:Merit Brewing\, 107 James Street North\, Hamilton\, Ontario\, Canada\, L8R 2K6
DESCRIPTION:
	&nbsp; Thursday\, October 28 at 5:30 pm | Merit We're bringing 
	Cheers back - in person! Cheers is about bonding and beverages - not busin
	ess cards. Come have a drink with us! Bring a friend\, meet a new face\, a
	nd share your story with someone. Cheers is hosted monthly at a different 
	location each month.
DTSTART;TZID=America/Toronto:20211028T173000
DTEND;TZID=America/Toronto:20211028T193000
END:VEVENT
END:VCALENDAR