BEGIN:VCALENDAR
VERSION:2.0
PRODID://HCOC//Hamilton Chamber of Commerce//EN
CALSCALE:GREGORIAN
METHOD:PUBLISH
X-WR-TIMEZONE:America/Toronto
X-WR-CALDESC:
BEGIN:VTIMEZONE
TZID:America/Toronto
X-LIC-LOCATION:America/Toronto
BEGIN:DAYLIGHT
TZOFFSETFROM:-0500
TZOFFSETTO:-0400
TZNAME:EDT
DTSTART:19700308T020000
RRULE:FREQ=YEARLY;BYMONTH=3;BYDAY=2SU
END:DAYLIGHT
BEGIN:STANDARD
TZOFFSETFROM:-0400
TZOFFSETTO:-0500
TZNAME:EST
DTSTART:19701101T020000
RRULE:FREQ=YEARLY;BYMONTH=11;BYDAY=1SU
END:STANDARD
END:VTIMEZONE
BEGIN:VEVENT
SUMMARY:Hamilton Tourism Summit
LOCATION:Hamilton Stadium\, 64 Melrose Avenue North\, Hamilton\, Ontario\, Canada\, L8L 8C1
DESCRIPTION:
	The Hamilton Tourism Summit is a pivotal event designed to harn
	ess and amplify Hamilton’s tourism potential. Bringing together industry
	 stakeholders\, city officials\, and community partners\, the summit will 
	focus on advancing our tourism sector through collaboration and innovation
	. Hamilton possesses all the ingredients to emerge as a premier tourist de
	stination within Canada. We’ve proven ourselves capable of hosting Can
	ada’s largest Events and Festivals and our renovated arena will soon hos
	t the biggest musical acts in the world. By spotlighting Hamilton’s unta
	pped tourism potential and identifying actionable opportunities\, the Tour
	ism Summit will play a crucial role in advancing our city's standing as a 
	premier destination to drive increased tourism spend. AGENDA 12:30 PM | Do
	ors Open &amp; Registration 1:00 PM | Panel #1 | Building a Thriving Night
	time Economy This panel will examine the key components of developing a vi
	brant and sustainable nightlife scene that can transform a city into a dyn
	amic and attractive destination. Experts in hospitality\, event management
	\, and placemaking will share insights on creating safe\, inclusive\, and 
	engaging night-time environments that result in a thriving economy. Topics
	 will include the role of entertainment venues\, dining options\, cultural
	 events\, and public transportation in fostering a lively nightlife. The p
	anel will also discuss the economic impact of robust strategies for balanc
	ing residential needs with nightlife growth\, and innovative approaches to
	 promoting a city's after-dark appeal. Attendees will gain practical knowl
	edge on cultivating a nightlife that enhances both the local economy and c
	ommunity vibrancy. 1:45 PM | Panel #2 | Unlocking the Potential of Nature 
	Tourism This panel will explore the vast opportunities within Hamilton's n
	ature tourism sector\, focusing on how destinations can leverage their nat
	ural assets to attract eco-conscious travelers. Experts in environmental c
	onservation\, tourism development\, and outdoor recreation will discuss st
	rategies for promoting sustainable tourism that highlights natural beauty 
	while preserving ecosystems. Topics will include the creation of engaging 
	nature-based experiences\, effective marketing techniques\, and the econom
	ic benefits of eco-tourism. The panel will also address the challenges of 
	balancing visitor access with environmental stewardship. Attendees will ga
	in insights into harnessing the power of nature tourism to drive economic 
	growth and enhance community well-being. 2:45 PM | Panel #3 | Major Musica
	l Acts and Their Economic Impact This panel will explore the significant e
	conomic influence of hosting major musical acts on local communities. Indu
	stry experts will discuss how large-scale concerts and music festivals can
	 drive tourism\, increase revenue for local businesses\, and boost city pr
	ofiles. Topics will include the logistics of attracting top-tier artists\,
	 the ripple effects on hospitality and retail sectors\, and strategies for
	 maximizing the economic benefits of these events. The panel will also hig
	hlight successful case studies and explore the challenges and opportunitie
	s in sustaining a vibrant music scene. Attendees will gain a comprehensive
	 understanding of the powerful economic impact major musical acts can have
	 on their communities. 4:00 PM | Locker Room Tour / Networking / Cocktail 
	Reception &nbsp;
DTSTART;TZID=America/Toronto:20241203T130000
DTEND;TZID=America/Toronto:20241203T170000
END:VEVENT
END:VCALENDAR