BEGIN:VCALENDAR
VERSION:2.0
PRODID://HCOC//Hamilton Chamber of Commerce//EN
CALSCALE:GREGORIAN
METHOD:PUBLISH
X-WR-TIMEZONE:America/Toronto
X-WR-CALDESC:
BEGIN:VTIMEZONE
TZID:America/Toronto
X-LIC-LOCATION:America/Toronto
BEGIN:DAYLIGHT
TZOFFSETFROM:-0500
TZOFFSETTO:-0400
TZNAME:EDT
DTSTART:19700308T020000
RRULE:FREQ=YEARLY;BYMONTH=3;BYDAY=2SU
END:DAYLIGHT
BEGIN:STANDARD
TZOFFSETFROM:-0400
TZOFFSETTO:-0500
TZNAME:EST
DTSTART:19701101T020000
RRULE:FREQ=YEARLY;BYMONTH=11;BYDAY=1SU
END:STANDARD
END:VTIMEZONE
BEGIN:VEVENT
SUMMARY:September Ancaster Division Meeting
LOCATION:Boston Pizza Ancaster\, 1070 Wilson St. W.\, Ancaster\, Ontario\, Canada\, L9G 3K9
DESCRIPTION:
	Join us for our September Ancaster Division Meeting at Boston P
	izza! AGENDA Doors Open - 11:45 am Welcome &amp; Chamber update - Chamber 
	Staff Guest Speaker Division Business Adjournment at 1:15 PM Networking un
	til 1:30 PM The Ancaster division is organized by the businesses of Ancast
	er and open to all Chamber members to attend. We welcome visitors\, former
	 Chamber members\, and companies interested in learning more about the Cha
	mber of Commerce and its member benefit offerings.
DTSTART;TZID=America/Toronto:20220909T120000
DTEND;TZID=America/Toronto:20220909T133000
END:VEVENT
END:VCALENDAR