BEGIN:VCALENDAR
VERSION:2.0
PRODID://HCOC//Hamilton Chamber of Commerce//EN
CALSCALE:GREGORIAN
METHOD:PUBLISH
X-WR-TIMEZONE:America/Toronto
X-WR-CALDESC:
BEGIN:VTIMEZONE
TZID:America/Toronto
X-LIC-LOCATION:America/Toronto
BEGIN:DAYLIGHT
TZOFFSETFROM:-0500
TZOFFSETTO:-0400
TZNAME:EDT
DTSTART:19700308T020000
RRULE:FREQ=YEARLY;BYMONTH=3;BYDAY=2SU
END:DAYLIGHT
BEGIN:STANDARD
TZOFFSETFROM:-0400
TZOFFSETTO:-0500
TZNAME:EST
DTSTART:19701101T020000
RRULE:FREQ=YEARLY;BYMONTH=11;BYDAY=1SU
END:STANDARD
END:VTIMEZONE
BEGIN:VEVENT
SUMMARY:HR Network: Recruiting with McMaster University
LOCATION:McMaster University - David Braley Centre\, 1280 Main Street West\, Hamilton\, Ontario\, Canada\, L8S 4L8
DESCRIPTION:
	Recruiting new talent is never easy\, unless you know where to 
	look!  Hamilton has a wealth of skilled\, educated and enthusiastic stude
	nts and new graduates looking for an opportunity at your company – they 
	just haven’t met you yet! In partnership with the Hamilton Chamber of Co
	mmerce\, McMaster University would like to invite you to meet the students
	\, career staff and companies that have successfully connected to continue
	 to grow Hamilton’s skilled workforce and build Hamilton’s thriving ec
	onomy. Meet staff from faculty career and co-op/internship offices and fin
	d out what students have to offer. Discover new programs and funding avail
	able to help you grow your staff Listen to success stories from alumni and
	 their employers Learn when and how to recruit to find your perfect match 
	Who should attend? Local Business Leaders Human Resources Professionals In
	formation Technology & Engineering Professionals Healthcare Professionals 
	Campus Map - http://www.mcmaster.ca/welcome/images/campus_map.pdf  - Cele
	bration Hall is located in Kenneth Taylor Hall. Directions to campus - htt
	p://www.mcmaster.ca/welcome/directions.cfm
DTSTART;TZID=America/Toronto:20170125T173000
DTEND;TZID=America/Toronto:20170125T200000
END:VEVENT
END:VCALENDAR