BEGIN:VCALENDAR
VERSION:2.0
PRODID://HCOC//Hamilton Chamber of Commerce//EN
CALSCALE:GREGORIAN
METHOD:PUBLISH
X-WR-TIMEZONE:America/Toronto
X-WR-CALDESC:
BEGIN:VTIMEZONE
TZID:America/Toronto
X-LIC-LOCATION:America/Toronto
BEGIN:DAYLIGHT
TZOFFSETFROM:-0500
TZOFFSETTO:-0400
TZNAME:EDT
DTSTART:19700308T020000
RRULE:FREQ=YEARLY;BYMONTH=3;BYDAY=2SU
END:DAYLIGHT
BEGIN:STANDARD
TZOFFSETFROM:-0400
TZOFFSETTO:-0500
TZNAME:EST
DTSTART:19701101T020000
RRULE:FREQ=YEARLY;BYMONTH=11;BYDAY=1SU
END:STANDARD
END:VTIMEZONE
BEGIN:VEVENT
SUMMARY:October Business After Business at Main Stage Rehearsal
LOCATION:Main Stage Rehearsal Studios\, 747 King St E\,\, Hamilton\, Ontario\, Canada\, L8M 1A4
DESCRIPTION:
	&nbsp; Join us for our October Business After Business at the M
	ain Stage Rehearsal Studios on Thursday\, October  24. Our BABs provide a
	 fun and casual environment to build your business network. Free to attend
	 for Chamber Members! Location: Main Stage Rehearsal Studios 747 King St E
	\, Hamilton\, ON Agenda: 5:30 pm – Doors open\, networking 6:00 pm – O
	pening remarks and door prize draw 7:00 pm – Event ends Please note: The
	re is limited capacity at this event\, so please register early to avoid d
	isappointment! We will start a waiting list once we hit capacity. Please o
	nly register the number of guests that plan on attending. This will ensure
	 that everyone has a fair chance of securing a ticket. This year's Busines
	s After Business events are proudly sponsored by  Ross &amp; McBride  &a
	mp; Lawrie Insurance Group &nbsp;
DTSTART;TZID=America/Toronto:20241024T173000
DTEND;TZID=America/Toronto:20241024T190000
END:VEVENT
END:VCALENDAR