BEGIN:VCALENDAR
VERSION:2.0
PRODID://HCOC//Hamilton Chamber of Commerce//EN
CALSCALE:GREGORIAN
METHOD:PUBLISH
X-WR-TIMEZONE:America/Toronto
X-WR-CALDESC:
BEGIN:VTIMEZONE
TZID:America/Toronto
X-LIC-LOCATION:America/Toronto
BEGIN:DAYLIGHT
TZOFFSETFROM:-0500
TZOFFSETTO:-0400
TZNAME:EDT
DTSTART:19700308T020000
RRULE:FREQ=YEARLY;BYMONTH=3;BYDAY=2SU
END:DAYLIGHT
BEGIN:STANDARD
TZOFFSETFROM:-0400
TZOFFSETTO:-0500
TZNAME:EST
DTSTART:19701101T020000
RRULE:FREQ=YEARLY;BYMONTH=11;BYDAY=1SU
END:STANDARD
END:VTIMEZONE
BEGIN:VEVENT
SUMMARY:2026 Mayor&#8217;s Breakfast
LOCATION:Liuna Station\, 360 James Street North\, Hamilton\, Ontario\, L8L 1H5
DESCRIPTION:
	PLEASE NOTE: THIS EVENT IS SOLD OUT. FOR INQUIRIES\, PLEASE CON
	TACT KATIE (K.STIEL@HAMILTONCHAMBER.CA) Partake in Hamilton’s flagship c
	ivic engagement event\, bringing together over 500 community leaders\, off
	icials\, and executives. The breakfast features a keynote address from May
	or Andrea Horwath and a fireside chat. Gain visibility\, network with top 
	decision-makers\, and showcase your commitment to the city’s future. For
	 sponsorship inquiries\, please contact Katie Stiel (k.stiel@hamiltonchamb
	er.ca). All sales are final. Refunds will only be processed if the event i
	s cancelled or rescheduled. While tickets are generally non-refundable\, p
	lease contact us to discuss your situation. Refunds are not guaranteed and
	 are granted at the sole-discretion of the Hamilton Chamber of Commerce.
DTSTART;TZID=America/Toronto:20260428T073000
DTEND;TZID=America/Toronto:20260428T093000
END:VEVENT
END:VCALENDAR