BEGIN:VCALENDAR
VERSION:2.0
PRODID://HCOC//Hamilton Chamber of Commerce//EN
CALSCALE:GREGORIAN
METHOD:PUBLISH
X-WR-TIMEZONE:America/Toronto
X-WR-CALDESC:
BEGIN:VTIMEZONE
TZID:America/Toronto
X-LIC-LOCATION:America/Toronto
BEGIN:DAYLIGHT
TZOFFSETFROM:-0500
TZOFFSETTO:-0400
TZNAME:EDT
DTSTART:19700308T020000
RRULE:FREQ=YEARLY;BYMONTH=3;BYDAY=2SU
END:DAYLIGHT
BEGIN:STANDARD
TZOFFSETFROM:-0400
TZOFFSETTO:-0500
TZNAME:EST
DTSTART:19701101T020000
RRULE:FREQ=YEARLY;BYMONTH=11;BYDAY=1SU
END:STANDARD
END:VTIMEZONE
BEGIN:VEVENT
SUMMARY:LRT-Ready Series 2: Field Trip to Eglinton Crosstown
DESCRIPTION:
	&nbsp; Get an update on the LRT construction along the Crosstow
	n line and learn more about support strategies. Return transportation from
	 downtown Hamilton provided. Lunch provided. Free to attend. This event is
	 not open to the general public.  You must be representing a business in 
	Hamilton to participate. Details: Please meet us at the Hunter Street Go S
	tation lobby for 8 am. We will departing by bus at 8:30 am sharp Bus tour 
	will be approximately 1.5 hours and we will be stopping for lunch afterwar
	ds (lunch included) We will be wrapping up around 1:30 pm and should be ba
	ck in Hamilton by 3:00 pm the latest
DTSTART;TZID=America/Toronto:20180824T080000
DTEND;TZID=America/Toronto:20180824T150000
END:VEVENT
END:VCALENDAR