BEGIN:VCALENDAR
VERSION:2.0
PRODID://HCOC//Hamilton Chamber of Commerce//EN
CALSCALE:GREGORIAN
METHOD:PUBLISH
X-WR-TIMEZONE:America/Toronto
X-WR-CALDESC:
BEGIN:VTIMEZONE
TZID:America/Toronto
X-LIC-LOCATION:America/Toronto
BEGIN:DAYLIGHT
TZOFFSETFROM:-0500
TZOFFSETTO:-0400
TZNAME:EDT
DTSTART:19700308T020000
RRULE:FREQ=YEARLY;BYMONTH=3;BYDAY=2SU
END:DAYLIGHT
BEGIN:STANDARD
TZOFFSETFROM:-0400
TZOFFSETTO:-0500
TZNAME:EST
DTSTART:19701101T020000
RRULE:FREQ=YEARLY;BYMONTH=11;BYDAY=1SU
END:STANDARD
END:VTIMEZONE
BEGIN:VEVENT
SUMMARY:LRT Ready &#8211; Developing Construction Mitigation Strategies: Oakville Perspective
LOCATION:Hamilton Stadium\, 64 Melrose Avenue North\, Hamilton\, Ontario\, Canada\, L8L 8C1
DESCRIPTION:
	Location: Tim Hortons Field\, 64 Melrose Ave N. Please enter t
	hrough the "Premium Entrance" on Melrose Ave. Take the elevator to the 2nd
	 floor. Doors open at 5:30 PM\, presentation begins at 6:00 PM.
DTSTART;TZID=America/Toronto:20191121T180000
DTEND;TZID=America/Toronto:20191121T200000
END:VEVENT
END:VCALENDAR