BEGIN:VCALENDAR
VERSION:2.0
PRODID://HCOC//Hamilton Chamber of Commerce//EN
CALSCALE:GREGORIAN
METHOD:PUBLISH
X-WR-TIMEZONE:America/Toronto
X-WR-CALDESC:
BEGIN:VTIMEZONE
TZID:America/Toronto
X-LIC-LOCATION:America/Toronto
BEGIN:DAYLIGHT
TZOFFSETFROM:-0500
TZOFFSETTO:-0400
TZNAME:EDT
DTSTART:19700308T020000
RRULE:FREQ=YEARLY;BYMONTH=3;BYDAY=2SU
END:DAYLIGHT
BEGIN:STANDARD
TZOFFSETFROM:-0400
TZOFFSETTO:-0500
TZNAME:EST
DTSTART:19701101T020000
RRULE:FREQ=YEARLY;BYMONTH=11;BYDAY=1SU
END:STANDARD
END:VTIMEZONE
BEGIN:VEVENT
SUMMARY:Human Resources Committee Meeting &#8211; December
LOCATION:Hamilton Chamber Boardroom\, 120 King Street West\, Plaza Level\, Hamilton\, Ontario\, Canada\, L8P 4V2
DESCRIPTION:
	Speaker: Meaghan Jansen\, Employee Wellness Solutions Network T
	opic: Employee engagement in health and wellness Click here to read more H
	uman Resources meets on the first Thursday of the month.
DTSTART;TZID=America/Toronto:20151203T074500
DTEND;TZID=America/Toronto:20151203T090000
END:VEVENT
END:VCALENDAR