BEGIN:VCALENDAR
VERSION:2.0
PRODID://HCOC//Hamilton Chamber of Commerce//EN
CALSCALE:GREGORIAN
METHOD:PUBLISH
X-WR-TIMEZONE:America/Toronto
X-WR-CALDESC:
BEGIN:VTIMEZONE
TZID:America/Toronto
X-LIC-LOCATION:America/Toronto
BEGIN:DAYLIGHT
TZOFFSETFROM:-0500
TZOFFSETTO:-0400
TZNAME:EDT
DTSTART:19700308T020000
RRULE:FREQ=YEARLY;BYMONTH=3;BYDAY=2SU
END:DAYLIGHT
BEGIN:STANDARD
TZOFFSETFROM:-0400
TZOFFSETTO:-0500
TZNAME:EST
DTSTART:19701101T020000
RRULE:FREQ=YEARLY;BYMONTH=11;BYDAY=1SU
END:STANDARD
END:VTIMEZONE
BEGIN:VEVENT
SUMMARY:Hamilton Chamber Industry Sector Meeting: Healthcare
DESCRIPTION:
	Join the Hamilton Chamber's upcoming Industry Sector Meeting to
	 connect with others\, expand your network and find new business &amp; par
	tnership opportunities. The Industry Sector Meetings bring together compan
	ies in similar industries to learn from one another\, network\, and discus
	s: • Trends impacting the sector • Labour sourcing\, training and long
	-term development • Policy and regulatory updates Guest Speaker for this
	 sector meeting: TBD If you have any questions\, please reach out to Paul 
	Hawkins (p.hawkins@hamiltonchamber.ca) directly.
DTSTART;TZID=America/Toronto:20211214T120000
DTEND;TZID=America/Toronto:20211214T133000
END:VEVENT
END:VCALENDAR