BEGIN:VCALENDAR
VERSION:2.0
PRODID://HCOC//Hamilton Chamber of Commerce//EN
CALSCALE:GREGORIAN
METHOD:PUBLISH
X-WR-TIMEZONE:America/Toronto
X-WR-CALDESC:
BEGIN:VTIMEZONE
TZID:America/Toronto
X-LIC-LOCATION:America/Toronto
BEGIN:DAYLIGHT
TZOFFSETFROM:-0500
TZOFFSETTO:-0400
TZNAME:EDT
DTSTART:19700308T020000
RRULE:FREQ=YEARLY;BYMONTH=3;BYDAY=2SU
END:DAYLIGHT
BEGIN:STANDARD
TZOFFSETFROM:-0400
TZOFFSETTO:-0500
TZNAME:EST
DTSTART:19701101T020000
RRULE:FREQ=YEARLY;BYMONTH=11;BYDAY=1SU
END:STANDARD
END:VTIMEZONE
BEGIN:VEVENT
SUMMARY:Glanbrook Division Meeting &#8211; January 2016
LOCATION:Glanbrook Municipal Centre\, RR#1 4280 Binbrook Road\, Binbrook\, Ontario\, Canada\, L0R 1C0
DESCRIPTION:
	Guest Speaker: David Sweet\, MP for Flamborough-Glanbrook Guest
	 Speaker: Daniel Heden\, United Way Topic: National 211 Day  
DTSTART;TZID=America/Toronto:20160121T080000
DTEND;TZID=America/Toronto:20160121T093000
END:VEVENT
END:VCALENDAR