BEGIN:VCALENDAR
VERSION:2.0
PRODID://HCOC//Hamilton Chamber of Commerce//EN
CALSCALE:GREGORIAN
METHOD:PUBLISH
X-WR-TIMEZONE:America/Toronto
X-WR-CALDESC:
BEGIN:VTIMEZONE
TZID:America/Toronto
X-LIC-LOCATION:America/Toronto
BEGIN:DAYLIGHT
TZOFFSETFROM:-0500
TZOFFSETTO:-0400
TZNAME:EDT
DTSTART:19700308T020000
RRULE:FREQ=YEARLY;BYMONTH=3;BYDAY=2SU
END:DAYLIGHT
BEGIN:STANDARD
TZOFFSETFROM:-0400
TZOFFSETTO:-0500
TZNAME:EST
DTSTART:19701101T020000
RRULE:FREQ=YEARLY;BYMONTH=11;BYDAY=1SU
END:STANDARD
END:VTIMEZONE
BEGIN:VEVENT
SUMMARY:Focus Group: Addressing Skilled Trades Shortages &#8211; Workforce Planning Hamilton &#038; Hamilton Chamber
LOCATION:Hamilton Chamber Boardroom\, 120 King Street West\, Plaza Level\, Hamilton\, Ontario\, Canada\, L8P 4V2
DESCRIPTION:
	[PLEASE NOTE: THIS FOCUS GROUP IS DESIGNED FOR EMPLOYERS TO ATT
	END] Are you struggling to find skilled trades workers? How can our commun
	ity better support you as a skilled trades employer? We hear about the cha
	llenges many of our members face when trying to find skilled trades worker
	s. Workforce Planning Hamilton (WPH) and the Ontario Ministry of Training\
	, Colleges and Universities (MTCU) is seeking input from our members about
	 the experiences you have had with finding workers and consult with employ
	ers to understand how the system can be improved. The Chamber and WPH is h
	osting a focus group to discuss these matters and advocate for improvement
	s to the status quo. Free event. Refreshments provided.
DTSTART;TZID=America/Toronto:20191101T083000
DTEND;TZID=America/Toronto:20191101T103000
END:VEVENT
END:VCALENDAR