BEGIN:VCALENDAR
VERSION:2.0
PRODID://HCOC//Hamilton Chamber of Commerce//EN
CALSCALE:GREGORIAN
METHOD:PUBLISH
X-WR-TIMEZONE:America/Toronto
X-WR-CALDESC:
BEGIN:VTIMEZONE
TZID:America/Toronto
X-LIC-LOCATION:America/Toronto
BEGIN:DAYLIGHT
TZOFFSETFROM:-0500
TZOFFSETTO:-0400
TZNAME:EDT
DTSTART:19700308T020000
RRULE:FREQ=YEARLY;BYMONTH=3;BYDAY=2SU
END:DAYLIGHT
BEGIN:STANDARD
TZOFFSETFROM:-0400
TZOFFSETTO:-0500
TZNAME:EST
DTSTART:19701101T020000
RRULE:FREQ=YEARLY;BYMONTH=11;BYDAY=1SU
END:STANDARD
END:VTIMEZONE
BEGIN:VEVENT
SUMMARY:Fall Economic Statement with the Hon. Peter Bethlenfalvy
LOCATION:The Scottish Rite\, 4 Queen Street South\, Hamilton\, Ontario\, Canada\, L8P 3R3
DESCRIPTION:
	Join us for breakfast with the Hon. Peter Bethlenfalvy as he s
	hares the upcoming Fall Economic Statement. Doors Open: 7:30 am Presentati
	on begins at 8:00 am Tickets are $45 + HST
DTSTART;TZID=America/Toronto:20191107T073000
DTEND;TZID=America/Toronto:20191107T093000
END:VEVENT
END:VCALENDAR