BEGIN:VCALENDAR
VERSION:2.0
PRODID://HCOC//Hamilton Chamber of Commerce//EN
CALSCALE:GREGORIAN
METHOD:PUBLISH
X-WR-TIMEZONE:America/Toronto
X-WR-CALDESC:
BEGIN:VTIMEZONE
TZID:America/Toronto
X-LIC-LOCATION:America/Toronto
BEGIN:DAYLIGHT
TZOFFSETFROM:-0500
TZOFFSETTO:-0400
TZNAME:EDT
DTSTART:19700308T020000
RRULE:FREQ=YEARLY;BYMONTH=3;BYDAY=2SU
END:DAYLIGHT
BEGIN:STANDARD
TZOFFSETFROM:-0400
TZOFFSETTO:-0500
TZNAME:EST
DTSTART:19701101T020000
RRULE:FREQ=YEARLY;BYMONTH=11;BYDAY=1SU
END:STANDARD
END:VTIMEZONE
BEGIN:VEVENT
SUMMARY:Dundas Division Meeting &#8211; November 2016
LOCATION:Dundas Valley Golf & Curling Club\, 10 Woodley's Lane\, Dundas\, Ontario\, Canada\, L9H 6Y6
DESCRIPTION:
	AGENDA 1.    Welcome 2.    Chamber Update 3.    Speake
	r: Councillor Arlene Vanderbeek 4.    Q&A with Speaker 5.    Divisio
	n business 6.    Meeting adjournment A light lunch will be served and b
	illed to your Chamber account. Please select from the following menu in ad
	vance of the meeting. MEAL-SIZED SALADS Caesar Salad Romaine hearts\, baco
	n bits\, shaved asiago\, grated parmesan\, lemon wedge\, Caesar dressing S
	pinach Salad Baby Spinach\, bacon bits\, mushrooms\, green onion\, boiled 
	egg\, poppy seed dressing Poached Squash Salad Baby arugula\, fried goat c
	heese\, candied walnut\, red onion\, maple vinaigrette SANDWICHES Served w
	ith choice of fries\, sweet potato fries\, onion rings\, house salad or Ca
	esar Meatball Sub Stuffed meatballs\, roasted tomato sauce\, melted mozzar
	ella Valley Wrap Grilled chicken\, guacamole\, goat cheese\, tomato\, shav
	ed lettuce\, red onion\, rolled in a grilled tortilla Hot Roast Beef Rich 
	beef gravy\, house cut fries Chicken Parmesan Sandwich House made Kaiser\,
	 melted mozzarella\, roasted tomato sauce
DTSTART;TZID=America/Toronto:20161123T120000
DTEND;TZID=America/Toronto:20161123T133000
END:VEVENT
END:VCALENDAR