BEGIN:VCALENDAR
VERSION:2.0
PRODID://HCOC//Hamilton Chamber of Commerce//EN
CALSCALE:GREGORIAN
METHOD:PUBLISH
X-WR-TIMEZONE:America/Toronto
X-WR-CALDESC:
BEGIN:VTIMEZONE
TZID:America/Toronto
X-LIC-LOCATION:America/Toronto
BEGIN:DAYLIGHT
TZOFFSETFROM:-0500
TZOFFSETTO:-0400
TZNAME:EDT
DTSTART:19700308T020000
RRULE:FREQ=YEARLY;BYMONTH=3;BYDAY=2SU
END:DAYLIGHT
BEGIN:STANDARD
TZOFFSETFROM:-0400
TZOFFSETTO:-0500
TZNAME:EST
DTSTART:19701101T020000
RRULE:FREQ=YEARLY;BYMONTH=11;BYDAY=1SU
END:STANDARD
END:VTIMEZONE
BEGIN:VEVENT
SUMMARY:Dundas Division Meeting &#8211; January 2016
LOCATION:Dundas Valley Golf & Curling Club\, 10 Woodley's Lane\, Dundas\, Ontario\, Canada\, L9H 6Y6
DESCRIPTION:
	Speaker: Paul Johnson\, City of Hamilton Topic: LRT Discussion 
	and Information ***** A light lunch will be served and billed to your Cham
	ber account.  Cost for lunch is $15.00+hst. Please choose from one of the
	 following for your meal: Tandoori Chicken Naan Wrap Mango chutney\, cilan
	tro crema\, red onion\, shaved lettuce Lounge trio Day soup\, choice salad
	 and choice ½ sandwich (tuna\, salmon\, or egg) Tuna Melt House made foca
	ccia\, tuna salad and melted cheddar Maple Chicken Caesar wrap fried chick
	en tenders\, maple bbq sauce\, romaine hearts\, Caesar dressing  Salads R
	oasted Brussel Sprout and Bacon salad Shaved pecorino\, reduced balsamic\,
	 confit onion Squash Panzanella Rosemary Focaccia\, Pickled red onion\, ch
	eddar cheese\, Fried sage\, pomegranate seeds\, Baby arugula\, Honey balsa
	mic vinaigrette Mushroom Bruschetta House made focaccia\, mushroom medley\
	, goat’s cheese\, baby arugula
DTSTART;TZID=America/Toronto:20160127T120000
DTEND;TZID=America/Toronto:20160127T133000
END:VEVENT
END:VCALENDAR