BEGIN:VCALENDAR
VERSION:2.0
PRODID://HCOC//Hamilton Chamber of Commerce//EN
CALSCALE:GREGORIAN
METHOD:PUBLISH
X-WR-TIMEZONE:America/Toronto
X-WR-CALDESC:
BEGIN:VTIMEZONE
TZID:America/Toronto
X-LIC-LOCATION:America/Toronto
BEGIN:DAYLIGHT
TZOFFSETFROM:-0500
TZOFFSETTO:-0400
TZNAME:EDT
DTSTART:19700308T020000
RRULE:FREQ=YEARLY;BYMONTH=3;BYDAY=2SU
END:DAYLIGHT
BEGIN:STANDARD
TZOFFSETFROM:-0400
TZOFFSETTO:-0500
TZNAME:EST
DTSTART:19701101T020000
RRULE:FREQ=YEARLY;BYMONTH=11;BYDAY=1SU
END:STANDARD
END:VTIMEZONE
BEGIN:VEVENT
SUMMARY:Digital Main Street &#8211; SEO Fundamentals
LOCATION:Hamilton City Hall\, 71 Main Street West\, Hamilton\, Ontario\, L8P 4Y5
DESCRIPTION:
	The The Ontario Digital Main Street Initiative is hosting a F
	REE workshop as part of the Digital Main Street Project! You have a websi
	te\, but how do customers find it? You need to drive traffic to your websi
	te by making sure your business shows up on Google when customers search. 
	This beginner workshop will teach you how to optimize your web site and di
	gital presence for Google without costing you money.
DTSTART;TZID=America/Toronto:20190812T173000
DTEND;TZID=America/Toronto:20190812T203000
END:VEVENT
END:VCALENDAR