BEGIN:VCALENDAR
VERSION:2.0
PRODID://HCOC//Hamilton Chamber of Commerce//EN
CALSCALE:GREGORIAN
METHOD:PUBLISH
X-WR-TIMEZONE:America/Toronto
X-WR-CALDESC:
BEGIN:VTIMEZONE
TZID:America/Toronto
X-LIC-LOCATION:America/Toronto
BEGIN:DAYLIGHT
TZOFFSETFROM:-0500
TZOFFSETTO:-0400
TZNAME:EDT
DTSTART:19700308T020000
RRULE:FREQ=YEARLY;BYMONTH=3;BYDAY=2SU
END:DAYLIGHT
BEGIN:STANDARD
TZOFFSETFROM:-0400
TZOFFSETTO:-0500
TZNAME:EST
DTSTART:19701101T020000
RRULE:FREQ=YEARLY;BYMONTH=11;BYDAY=1SU
END:STANDARD
END:VTIMEZONE
BEGIN:VEVENT
SUMMARY:Connections &#8211; November 1
LOCATION:Uptown Business Club\, 236 Pritchard Road\, Hamilton\, Ontario\, Canada\, L8W 3P7
DESCRIPTION:
	Speaker: Dr. Sam Johnson\, Paramount Family Chiropractic Connec
	tions is the Chamber's category-exclusive (only one type of business per c
	ategory) networking group. Guests (whose category does not conflict with a
	 current member's category) are welcome to sit in on one Connections meeti
	ng at no charge. Click here for more details about eligibility and for the
	 directory.
DTSTART;TZID=America/Toronto:20181101T071500
DTEND;TZID=America/Toronto:20181101T084500
END:VEVENT
END:VCALENDAR