BEGIN:VCALENDAR
VERSION:2.0
PRODID://HCOC//Hamilton Chamber of Commerce//EN
CALSCALE:GREGORIAN
METHOD:PUBLISH
X-WR-TIMEZONE:America/Toronto
X-WR-CALDESC:
BEGIN:VTIMEZONE
TZID:America/Toronto
X-LIC-LOCATION:America/Toronto
BEGIN:DAYLIGHT
TZOFFSETFROM:-0500
TZOFFSETTO:-0400
TZNAME:EDT
DTSTART:19700308T020000
RRULE:FREQ=YEARLY;BYMONTH=3;BYDAY=2SU
END:DAYLIGHT
BEGIN:STANDARD
TZOFFSETFROM:-0400
TZOFFSETTO:-0500
TZNAME:EST
DTSTART:19701101T020000
RRULE:FREQ=YEARLY;BYMONTH=11;BYDAY=1SU
END:STANDARD
END:VTIMEZONE
BEGIN:VEVENT
SUMMARY:City Manager&#8217;s Breakfast 2019 &#8211; SOLD OUT
LOCATION:Sheraton Hamilton Hotel and Conference Centre\, 116 King Street West\, Hamilton\, Ontario\, Canada\, L8P 4V3
DESCRIPTION:
	This event is currently sold out. If you would like to get on t
	he waiting list\, please contact Julia at j.jarusauskas@hamiltonchamber.ca
	 or 905 522 1151 x 227. Thanks! &nbsp; &nbsp; Many thanks to our venue: Ti
	meline Registration open: 7:30am Breakfast served: 7:45am Program start: 8
	:05am
DTSTART;TZID=America/Toronto:20191029T073000
DTEND;TZID=America/Toronto:20191029T093000
END:VEVENT
END:VCALENDAR