BEGIN:VCALENDAR
VERSION:2.0
PRODID://HCOC//Hamilton Chamber of Commerce//EN
CALSCALE:GREGORIAN
METHOD:PUBLISH
X-WR-TIMEZONE:America/Toronto
X-WR-CALDESC:
BEGIN:VTIMEZONE
TZID:America/Toronto
X-LIC-LOCATION:America/Toronto
BEGIN:DAYLIGHT
TZOFFSETFROM:-0500
TZOFFSETTO:-0400
TZNAME:EDT
DTSTART:19700308T020000
RRULE:FREQ=YEARLY;BYMONTH=3;BYDAY=2SU
END:DAYLIGHT
BEGIN:STANDARD
TZOFFSETFROM:-0400
TZOFFSETTO:-0500
TZNAME:EST
DTSTART:19701101T020000
RRULE:FREQ=YEARLY;BYMONTH=11;BYDAY=1SU
END:STANDARD
END:VTIMEZONE
BEGIN:VEVENT
SUMMARY:Ancaster Division Meeting &#8211; September
LOCATION:Ancaster Mill\, 548 Old Dundas Road\, Ancaster\, L9G 3J4
DESCRIPTION:
	AGENDA Introductions Chamber update Guest Speaker/Topic: HCC Co
	mmittee and Division Renewal Task Force Q & A with Guest Speaker Division 
	Business    Ancaster Community Awards Adjournment The cost of lunch wil
	l be approximately $30.00\, which will be billed to your Chamber account.
DTSTART;TZID=America/Toronto:20160909T120000
DTEND;TZID=America/Toronto:20160909T133000
END:VEVENT
END:VCALENDAR