BEGIN:VCALENDAR
VERSION:2.0
PRODID://HCOC//Hamilton Chamber of Commerce//EN
CALSCALE:GREGORIAN
METHOD:PUBLISH
X-WR-TIMEZONE:America/Toronto
X-WR-CALDESC:
BEGIN:VTIMEZONE
TZID:America/Toronto
X-LIC-LOCATION:America/Toronto
BEGIN:DAYLIGHT
TZOFFSETFROM:-0500
TZOFFSETTO:-0400
TZNAME:EDT
DTSTART:19700308T020000
RRULE:FREQ=YEARLY;BYMONTH=3;BYDAY=2SU
END:DAYLIGHT
BEGIN:STANDARD
TZOFFSETFROM:-0400
TZOFFSETTO:-0500
TZNAME:EST
DTSTART:19701101T020000
RRULE:FREQ=YEARLY;BYMONTH=11;BYDAY=1SU
END:STANDARD
END:VTIMEZONE
BEGIN:VEVENT
SUMMARY:Ambitious City: Showtime for Hamilton’s Music City Strategy
LOCATION:Lincoln Alexander Centre\, 160 King Street East\, Hamilton\, Ontario\, Canada\, L8N 1B2
DESCRIPTION:
	Click to read a summary of Hamilton Music Strategy Media Relea
	se: October 25 [audio mp3="https://www.hamiltonchamber.ca/wp-content/uploa
	ds/2016/07/Ambitious-City-Interview-on-Bill-Kelly-Show-CHML-Oct-2016-2.mp3
	"][/audio] Listen above to Keanin Loomis\, Jeff Martin and Madeline Wilson
	 discussing the Hamilton Music Strategy on the Bill Kelly Show\, AM900 CHM
	L\, October 24\, 2016 (15 minutes) We encourage you to dine out before the
	 event at a restaurant in downtown Hamilton. Click Here for a list of Ch
	amber member restaurants.
DTSTART;TZID=America/Toronto:20161110T190000
DTEND;TZID=America/Toronto:20161110T210000
END:VEVENT
END:VCALENDAR