BEGIN:VCALENDAR
VERSION:2.0
PRODID://HCOC//Hamilton Chamber of Commerce//EN
CALSCALE:GREGORIAN
METHOD:PUBLISH
X-WR-TIMEZONE:America/Toronto
X-WR-CALDESC:
BEGIN:VTIMEZONE
TZID:America/Toronto
X-LIC-LOCATION:America/Toronto
BEGIN:DAYLIGHT
TZOFFSETFROM:-0500
TZOFFSETTO:-0400
TZNAME:EDT
DTSTART:19700308T020000
RRULE:FREQ=YEARLY;BYMONTH=3;BYDAY=2SU
END:DAYLIGHT
BEGIN:STANDARD
TZOFFSETFROM:-0400
TZOFFSETTO:-0500
TZNAME:EST
DTSTART:19701101T020000
RRULE:FREQ=YEARLY;BYMONTH=11;BYDAY=1SU
END:STANDARD
END:VTIMEZONE
BEGIN:VEVENT
SUMMARY:5th Annual Canada’s Innovation Corridor Summit
LOCATION:Royal Botanical Gardens\, 680 Plains Road West\, Burlington\, Ontario\, L7T 4H4
DESCRIPTION:
	Canada’s Innovation Corridor Summit (CICS) is an annual one-d
	ay event designed to fuel regional connectivity and collaboration within C
	anada’s Innovation Corridor – a globally significant economic region c
	entred in the Greater Golden Horseshoe and anchored by Toronto\, Kitchener
	-Waterloo\, and Hamilton. Driven by Canada’s Innovation Corridor Busines
	s Council\, the summit serves as a key pillar in helping to inform and dri
	ve transformational actions that shape the corridor’s future as a world-
	class region measured by talent\, productivity\, and quality of life. Unde
	r the theme Transition to Net-Zero\, the 5th Annual CICS will bring togeth
	er key decision-makers from business\, government\, and the associations
	’ sector\, to discuss the challenges and opportunities that decarbonizat
	ion will bring for industry\, infrastructure\, transportation\, and resear
	ch within the corridor. Thank you to our Sponsors: &nbsp;
DTSTART;TZID=America/Toronto:20220629T073000
DTEND;TZID=America/Toronto:20220629T170000
END:VEVENT
END:VCALENDAR