BEGIN:VCALENDAR
VERSION:2.0
PRODID://HCOC//Hamilton Chamber of Commerce//EN
CALSCALE:GREGORIAN
METHOD:PUBLISH
X-WR-TIMEZONE:America/Toronto
X-WR-CALDESC:
BEGIN:VTIMEZONE
TZID:America/Toronto
X-LIC-LOCATION:America/Toronto
BEGIN:DAYLIGHT
TZOFFSETFROM:-0500
TZOFFSETTO:-0400
TZNAME:EDT
DTSTART:19700308T020000
RRULE:FREQ=YEARLY;BYMONTH=3;BYDAY=2SU
END:DAYLIGHT
BEGIN:STANDARD
TZOFFSETFROM:-0400
TZOFFSETTO:-0500
TZNAME:EST
DTSTART:19701101T020000
RRULE:FREQ=YEARLY;BYMONTH=11;BYDAY=1SU
END:STANDARD
END:VTIMEZONE
BEGIN:VEVENT
SUMMARY:37th Virtual Outstanding Business Achievement Awards
DESCRIPTION:
	Tune in on June 1st from 3:00 PM - 4:00 PM for this year's virt
	ual OBAAs\, where will be announcing this year's winners LIVE! We have a f
	ew fun things in store\, including some performances by Hamilton artists\,
	 so grab a drink\, and log on early to network with fellow attendees. The 
	event will begin promptly at 3:00 PM. Thank you once again to this year's 
	sponsors: For questions\, contact Julia Freeman at: j.freeman@hamiltoncham
	ber.ca
DTSTART;TZID=America/Toronto:20210601T150000
DTEND;TZID=America/Toronto:20210601T163000
END:VEVENT
END:VCALENDAR